BEGIN:VCALENDAR
VERSION:2.0
PRODID:-//ChamberMaster//Event Calendar 2.0//EN
METHOD:PUBLISH
X-PUBLISHED-TTL:P3D
REFRESH-INTERVAL:P3D
CALSCALE:GREGORIAN
BEGIN:VEVENT
DTSTART:20190807T140000Z
DTEND:20190807T180000Z
X-MICROSOFT-CDO-ALLDAYEVENT:FALSE
SUMMARY:Lean Six Sigma Green Belt Training begins
DESCRIPTION:Participants will learn Lean Six Sigma methodologies to improve process improvement skills. Waste elimination and variation reduction abilities will be enhanced.\n\n\n\nAttendees will take away strategies to help successfully deploy Lean Six Sigma initiatives and lead small scale improvement projects within their area of control. In depth understanding of the overall process and impactful tools are covered. In-class games and examples will reinforce the principles learned. Participants are encouraged to bring real life problems to improve discussion.\n\nCourse Objectives: \n\n	Define Lean Six Sigma & organizational goals \n	Learn the details of the DMAIC process\n	Understand statistical tools & application in process improvement\n	Prepare to lead & execute process-level improvement projects \n	Apply problem solving & quantifiable tools to inclass examples\n	Collect\, analyze & quantify data that enables process improvements\n\nTo register\, Contact:\n\nKashlie Hamilton\n\n435-750-3209
X-ALT-DESC;FMTTYPE=text/html:Participants will learn Lean Six Sigma methodologies to improve process improvement skills. Waste elimination and variation reduction abilities will be enhanced.<br />\n<br />\nAttendees will take away strategies to help successfully deploy Lean Six Sigma initiatives and lead small scale improvement projects within their area of control. In depth understanding of the overall process and impactful tools are covered. In-class games and examples will reinforce the principles learned. Participants are encouraged to bring real life problems to improve discussion.<br />\nCourse Objectives:&nbsp\;\n<ul>\n	<li>Define Lean Six Sigma &amp\; organizational goals&nbsp\;</li>\n	<li>Learn the details of the DMAIC process</li>\n	<li>Understand statistical tools &amp\; application in process improvement</li>\n	<li>Prepare to lead &amp\; execute process-level improvement projects&nbsp\;</li>\n	<li>Apply problem solving &amp\; quantifiable tools to inclass examples</li>\n	<li>Collect\, analyze &amp\; quantify data that enables process improvements</li>\n</ul>\nTo register\, Contact:<br />\nKashlie Hamilton<br />\n435-750-3209
LOCATION:Bridgerland Technical College 1301 N 600 W Logan\, UT 84321 Room 824
UID:e.426.9448
SEQUENCE:3
DTSTAMP:20260419T233418Z
URL:https://business.cachechamber.com/events/details/lean-six-sigma-green-belt-training-begins-9448
END:VEVENT

END:VCALENDAR
