BEGIN:VCALENDAR
VERSION:2.0
PRODID:-//ChamberMaster//Event Calendar 2.0//EN
METHOD:PUBLISH
X-PUBLISHED-TTL:P3D
REFRESH-INTERVAL:P3D
CALSCALE:GREGORIAN
BEGIN:VEVENT
DTSTART:20221220T182500Z
DTEND:20221220T200000Z
X-MICROSOFT-CDO-ALLDAYEVENT:FALSE
SUMMARY:Leadership Luncheon - December 2022
DESCRIPTION:Join us every month to hear a variety of topics and information and enjoy a safe networking atmosphere with  gourmet food\, raffles\, and more..\n\n\n\nComplimentary parking is available on the upper level of the garage across the street and in the parking lot to the south of the Springhill Suites Marriott. Check-in begins at 11:30 AM\, with lunch and program beginning at 12:00 PM noon\, and the program is adjourned at 1:00 PM.
X-ALT-DESC;FMTTYPE=text/html:<span style="color: rgb(51\, 51\, 51)\; font-family: sans-serif\, Arial\, Verdana\, &quot\;Trebuchet MS&quot\;\; font-size: 13px\; background-color: rgb(255\, 255\, 255)\;">Join us every month to hear a variety of topics and information and enjoy a safe networking atmosphere with&nbsp\; gourmet food\, raffles\, and more.</span>.<br />\n<br />\nComplimentary parking is available on the upper level of the garage across the street and in the parking lot to the south of the Springhill Suites Marriott. Check-in begins at 11:30 AM\, with lunch and program beginning at 12:00 PM noon\, and the program is adjourned at 1:00 PM.&nbsp\;<br />\n<br />\n&nbsp\;
LOCATION:The Riverwoods Conference Center 615 Riverwoods Parkway Logan\, UT
UID:e.426.36564
SEQUENCE:3
DTSTAMP:20260419T151831Z
URL:https://business.cachechamber.com/events/details/leadership-luncheon-december-2022-36564
END:VEVENT

END:VCALENDAR
