BEGIN:VCALENDAR
VERSION:2.0
PRODID:-//ChamberMaster//Event Calendar 2.0//EN
METHOD:PUBLISH
X-PUBLISHED-TTL:P3D
REFRESH-INTERVAL:P3D
CALSCALE:GREGORIAN
BEGIN:VEVENT
DTSTART:20201030T003000Z
DTEND:20201030T030000Z
X-MICROSOFT-CDO-ALLDAYEVENT:FALSE
SUMMARY:Hyde Park Haunted Hollow Spook Alley
DESCRIPTION:Hyde Park's annual Haunted Hollow Spook Alley sponsored by the Youth Council.  Lots of fun and scares for all ages.
X-ALT-DESC;FMTTYPE=text/html:Hyde Park&#39\;s annual Haunted Hollow Spook Alley sponsored by the Youth Council.&nbsp\; Lots of fun and scares for all ages.&nbsp\;
LOCATION:Hyde Park City Office
UID:e.426.22009
SEQUENCE:3
DTSTAMP:20260425T104704Z
URL:https://business.cachechamber.com/events/details/hyde-park-haunted-hollow-spook-alley-10-29-2020-22009
END:VEVENT

END:VCALENDAR
